BEGIN:VCALENDAR
VERSION:2.0
METHOD:PUBLISH
PRODID:-//Causal Sarl//LionsBase Calendar 5.0.x-dev//EN
TZID:Europe/Zurich
BEGIN:VEVENT
UID:32002_20260506@feldkirch-montfort.lions.at
DTSTAMP:20260419T224608Z
DTSTART:20260506T163000Z
DTEND:20260506T180000Z
ORGANIZER:LC Feldkirch Montfort
SUMMARY:Rhein-Sicherheit-Erholung (RHESI)
DESCRIPTION:
END:VEVENT
END:VCALENDAR
